BEGIN:VCALENDAR
VERSION:2.0
PRODID:-//IBTS - ECPv5.9.0//NONSGML v1.0//EN
CALSCALE:GREGORIAN
METHOD:PUBLISH
X-WR-CALNAME:IBTS
X-ORIGINAL-URL:https://ibts2.ibts.org
X-WR-CALDESC:Events for IBTS
BEGIN:VTIMEZONE
TZID:UTC
BEGIN:STANDARD
TZOFFSETFROM:+0000
TZOFFSETTO:+0000
TZNAME:UTC
DTSTART:20180101T000000
END:STANDARD
END:VTIMEZONE
BEGIN:VEVENT
DTSTART;VALUE=DATE:20180214
DTEND;VALUE=DATE:20180217
DTSTAMP:20260421T084010
CREATED:20180201T200410Z
LAST-MODIFIED:20180201T200410Z
UID:3163-1518566400-1518825599@ibts2.ibts.org
SUMMARY:VLGMA Winter Conference 2018
DESCRIPTION:IBTS will be attending this year’s VLGMA Winter Conference in Charlottesville. We look forward to seeing you there!
URL:https://ibts2.ibts.org/event/vlgma-winter-conference-2018/
LOCATION:Charlottesville\, VA
END:VEVENT
END:VCALENDAR