BEGIN:VCALENDAR
VERSION:2.0
PRODID:-//IBTS - ECPv5.9.0//NONSGML v1.0//EN
CALSCALE:GREGORIAN
METHOD:PUBLISH
X-WR-CALNAME:IBTS
X-ORIGINAL-URL:https://ibts2.ibts.org
X-WR-CALDESC:Events for IBTS
BEGIN:VTIMEZONE
TZID:UTC
BEGIN:STANDARD
TZOFFSETFROM:+0000
TZOFFSETTO:+0000
TZNAME:UTC
DTSTART:20170101T000000
END:STANDARD
END:VTIMEZONE
BEGIN:VEVENT
DTSTART;VALUE=DATE:20170430
DTEND;VALUE=DATE:20170502
DTSTAMP:20260422T035256
CREATED:20170614T143939Z
LAST-MODIFIED:20170614T143939Z
UID:1038-1493510400-1493683199@ibts2.ibts.org
SUMMARY:VBCOA Midyear Conference
DESCRIPTION:
URL:https://ibts2.ibts.org/event/vbcoa-midyear-conference/
LOCATION:Charlottesville\, VA
END:VEVENT
END:VCALENDAR