BEGIN:VCALENDAR
VERSION:2.0
PRODID:-//IBTS - ECPv5.9.0//NONSGML v1.0//EN
CALSCALE:GREGORIAN
METHOD:PUBLISH
X-WR-CALNAME:IBTS
X-ORIGINAL-URL:https://ibts2.ibts.org
X-WR-CALDESC:Events for IBTS
BEGIN:VTIMEZONE
TZID:UTC
BEGIN:STANDARD
TZOFFSETFROM:+0000
TZOFFSETTO:+0000
TZNAME:UTC
DTSTART:20170101T000000
END:STANDARD
END:VTIMEZONE
BEGIN:VEVENT
DTSTART;VALUE=DATE:20170418
DTEND;VALUE=DATE:20170422
DTSTAMP:20260422T025239
CREATED:20170614T144429Z
LAST-MODIFIED:20170614T144429Z
UID:1054-1492473600-1492819199@ibts2.ibts.org
SUMMARY:Transforming Local Government Conference
DESCRIPTION:
URL:https://ibts2.ibts.org/event/transforming-local-government-conference/
LOCATION:Tulsa\, OK
END:VEVENT
END:VCALENDAR