BEGIN:VCALENDAR
VERSION:2.0
PRODID:-//IBTS - ECPv5.9.0//NONSGML v1.0//EN
CALSCALE:GREGORIAN
METHOD:PUBLISH
X-WR-CALNAME:IBTS
X-ORIGINAL-URL:https://ibts2.ibts.org
X-WR-CALDESC:Events for IBTS
BEGIN:VTIMEZONE
TZID:UTC
BEGIN:STANDARD
TZOFFSETFROM:+0000
TZOFFSETTO:+0000
TZNAME:UTC
DTSTART:20180101T000000
END:STANDARD
END:VTIMEZONE
BEGIN:VEVENT
DTSTART;VALUE=DATE:20180205
DTEND;VALUE=DATE:20180207
DTSTAMP:20260421T094935
CREATED:20180201T195331Z
LAST-MODIFIED:20180201T200024Z
UID:3153-1517788800-1517961599@ibts2.ibts.org
SUMMARY:Solar Power Northeast 2018
DESCRIPTION:IBTS will be attending this year’s Solar Power Northeast conference in Boston. We look forward to seeing you there!
URL:https://ibts2.ibts.org/event/solar-power-northeast/
LOCATION:Boston\, MA
END:VEVENT
END:VCALENDAR