BEGIN:VCALENDAR
VERSION:2.0
PRODID:-//IBTS - ECPv5.9.0//NONSGML v1.0//EN
CALSCALE:GREGORIAN
METHOD:PUBLISH
X-WR-CALNAME:IBTS
X-ORIGINAL-URL:https://ibts2.ibts.org
X-WR-CALDESC:Events for IBTS
BEGIN:VTIMEZONE
TZID:UTC
BEGIN:STANDARD
TZOFFSETFROM:+0000
TZOFFSETTO:+0000
TZNAME:UTC
DTSTART:20170101T000000
END:STANDARD
END:VTIMEZONE
BEGIN:VEVENT
DTSTART;VALUE=DATE:20170910
DTEND;VALUE=DATE:20170914
DTSTAMP:20260421T205014
CREATED:20170801T210750Z
LAST-MODIFIED:20170801T210750Z
UID:1936-1505001600-1505347199@ibts2.ibts.org
SUMMARY:Solar Power International 2017
DESCRIPTION:IBTS will be attending the Solar Power International 2017 conference.
URL:https://ibts2.ibts.org/event/solar-power-international-2017/
LOCATION:Las Vegas\, NV
END:VEVENT
END:VCALENDAR