BEGIN:VCALENDAR
VERSION:2.0
PRODID:-//IBTS - ECPv5.9.0//NONSGML v1.0//EN
CALSCALE:GREGORIAN
METHOD:PUBLISH
X-WR-CALNAME:IBTS
X-ORIGINAL-URL:https://ibts2.ibts.org
X-WR-CALDESC:Events for IBTS
BEGIN:VTIMEZONE
TZID:UTC
BEGIN:STANDARD
TZOFFSETFROM:+0000
TZOFFSETTO:+0000
TZNAME:UTC
DTSTART:20170101T000000
END:STANDARD
END:VTIMEZONE
BEGIN:VEVENT
DTSTART;VALUE=DATE:20170531
DTEND;VALUE=DATE:20170601
DTSTAMP:20260422T041513
CREATED:20170614T142951Z
LAST-MODIFIED:20170614T142951Z
UID:1019-1496188800-1496275199@ibts2.ibts.org
SUMMARY:Solar Goes Corporate Summit
DESCRIPTION:
URL:https://ibts2.ibts.org/event/solar-goes-corporate-summit/
LOCATION:New York\, NY
END:VEVENT
END:VCALENDAR