BEGIN:VCALENDAR
VERSION:2.0
PRODID:-//IBTS - ECPv5.9.0//NONSGML v1.0//EN
CALSCALE:GREGORIAN
METHOD:PUBLISH
X-WR-CALNAME:IBTS
X-ORIGINAL-URL:https://ibts2.ibts.org
X-WR-CALDESC:Events for IBTS
BEGIN:VTIMEZONE
TZID:UTC
BEGIN:STANDARD
TZOFFSETFROM:+0000
TZOFFSETTO:+0000
TZNAME:UTC
DTSTART:20170101T000000
END:STANDARD
END:VTIMEZONE
BEGIN:VEVENT
DTSTART;VALUE=DATE:20170328
DTEND;VALUE=DATE:20170330
DTSTAMP:20260422T011755
CREATED:20170614T144818Z
LAST-MODIFIED:20170614T144818Z
UID:1066-1490659200-1490831999@ibts2.ibts.org
SUMMARY:Solar Asset Management North America
DESCRIPTION:
URL:https://ibts2.ibts.org/event/solar-asset-management-north-america/
LOCATION:San Francisco\, CA
END:VEVENT
END:VCALENDAR