BEGIN:VCALENDAR
VERSION:2.0
PRODID:-//IBTS - ECPv5.9.0//NONSGML v1.0//EN
CALSCALE:GREGORIAN
METHOD:PUBLISH
X-WR-CALNAME:IBTS
X-ORIGINAL-URL:https://ibts2.ibts.org
X-WR-CALDESC:Events for IBTS
BEGIN:VTIMEZONE
TZID:UTC
BEGIN:STANDARD
TZOFFSETFROM:+0000
TZOFFSETTO:+0000
TZNAME:UTC
DTSTART:20180101T000000
END:STANDARD
END:VTIMEZONE
BEGIN:VEVENT
DTSTART;VALUE=DATE:20180313
DTEND;VALUE=DATE:20180315
DTSTAMP:20260421T095151
CREATED:20180312T164219Z
LAST-MODIFIED:20180312T164318Z
UID:3282-1520899200-1521071999@ibts2.ibts.org
SUMMARY:Solar Asset Management North America 2018
DESCRIPTION:IBTS is attending Solar Asset Management North America 2018 and Richard Lawrence\, Program Director of Energy\, Sustainability & Resilience is speaking. We look forward to seeing you there!
URL:https://ibts2.ibts.org/event/solar-asset-management-north-america-2018/
LOCATION:San Francisco\, CA
END:VEVENT
END:VCALENDAR