BEGIN:VCALENDAR
VERSION:2.0
PRODID:-//IBTS - ECPv5.9.0//NONSGML v1.0//EN
CALSCALE:GREGORIAN
METHOD:PUBLISH
X-WR-CALNAME:IBTS
X-ORIGINAL-URL:https://ibts2.ibts.org
X-WR-CALDESC:Events for IBTS
BEGIN:VTIMEZONE
TZID:UTC
BEGIN:STANDARD
TZOFFSETFROM:+0000
TZOFFSETTO:+0000
TZNAME:UTC
DTSTART:20170101T000000
END:STANDARD
END:VTIMEZONE
BEGIN:VEVENT
DTSTART;VALUE=DATE:20170426
DTEND;VALUE=DATE:20170427
DTSTAMP:20260422T065848
CREATED:20170614T144149Z
LAST-MODIFIED:20170614T144149Z
UID:1043-1493164800-1493251199@ibts2.ibts.org
SUMMARY:Smart Cities & Transportation Symposium 2017
DESCRIPTION:
URL:https://ibts2.ibts.org/event/smart-cities-transportation-symposium-2017/
LOCATION:Newark\, NJ
END:VEVENT
END:VCALENDAR