BEGIN:VCALENDAR
VERSION:2.0
PRODID:-//IBTS - ECPv5.9.0//NONSGML v1.0//EN
CALSCALE:GREGORIAN
METHOD:PUBLISH
X-WR-CALNAME:IBTS
X-ORIGINAL-URL:https://ibts2.ibts.org
X-WR-CALDESC:Events for IBTS
BEGIN:VTIMEZONE
TZID:UTC
BEGIN:STANDARD
TZOFFSETFROM:+0000
TZOFFSETTO:+0000
TZNAME:UTC
DTSTART:20180101T000000
END:STANDARD
END:VTIMEZONE
BEGIN:VEVENT
DTSTART;VALUE=DATE:20180117
DTEND;VALUE=DATE:20180120
DTSTAMP:20260421T152608
CREATED:20170905T171840Z
LAST-MODIFIED:20180911T135620Z
UID:2799-1516147200-1516406399@ibts2.ibts.org
SUMMARY:Police Jury Association of Louisiana (PJAL) 2018
DESCRIPTION:IBTS will be exhibiting at this year’s Police Jury Association of Louisiana (PJAL) 2018. Come visit us in booth #505!
URL:https://ibts2.ibts.org/event/police-jury-association-louisiana-pjal-2018/
LOCATION:New Orleans\, LA
END:VEVENT
END:VCALENDAR