BEGIN:VCALENDAR
VERSION:2.0
PRODID:-//IBTS - ECPv5.9.0//NONSGML v1.0//EN
CALSCALE:GREGORIAN
METHOD:PUBLISH
X-WR-CALNAME:IBTS
X-ORIGINAL-URL:https://ibts2.ibts.org
X-WR-CALDESC:Events for IBTS
BEGIN:VTIMEZONE
TZID:UTC
BEGIN:STANDARD
TZOFFSETFROM:+0000
TZOFFSETTO:+0000
TZNAME:UTC
DTSTART:20170101T000000
END:STANDARD
END:VTIMEZONE
BEGIN:VEVENT
DTSTART;VALUE=DATE:20170830
DTEND;VALUE=DATE:20170901
DTSTAMP:20260421T180942
CREATED:20170802T174542Z
LAST-MODIFIED:20170802T174542Z
UID:2004-1504051200-1504223999@ibts2.ibts.org
SUMMARY:Oklahoma Turning Point Council's Annual Conference
DESCRIPTION:Two team members from IBTS will have a speaking session at this year’s Oklahoma Turning Point Council’s Annual Conference. Stay tuned for more details!
URL:https://ibts2.ibts.org/event/oklahoma-turning-point-councils-annual-conference/
LOCATION:Norman\, OK
END:VEVENT
END:VCALENDAR