BEGIN:VCALENDAR
VERSION:2.0
PRODID:-//IBTS - ECPv5.9.0//NONSGML v1.0//EN
CALSCALE:GREGORIAN
METHOD:PUBLISH
X-WR-CALNAME:IBTS
X-ORIGINAL-URL:https://ibts2.ibts.org
X-WR-CALDESC:Events for IBTS
BEGIN:VTIMEZONE
TZID:UTC
BEGIN:STANDARD
TZOFFSETFROM:+0000
TZOFFSETTO:+0000
TZNAME:UTC
DTSTART:20170101T000000
END:STANDARD
END:VTIMEZONE
BEGIN:VEVENT
DTSTART;VALUE=DATE:20170912
DTEND;VALUE=DATE:20170915
DTSTAMP:20260421T205227
CREATED:20170801T211646Z
LAST-MODIFIED:20170905T165330Z
UID:1944-1505174400-1505433599@ibts2.ibts.org
SUMMARY:Oklahoma Municipal League (OML) Annual Conference
DESCRIPTION:IBTS will be sponsoring and exhibiting at the Oklahoma Municipal League (OML) Annual Conference. Come visit us in booth #520!
URL:https://ibts2.ibts.org/event/oklahoma-municipal-league-oml-annual-conference/
LOCATION:Tulsa\, OK
END:VEVENT
END:VCALENDAR