BEGIN:VCALENDAR
VERSION:2.0
PRODID:-//IBTS - ECPv5.9.0//NONSGML v1.0//EN
CALSCALE:GREGORIAN
METHOD:PUBLISH
X-WR-CALNAME:IBTS
X-ORIGINAL-URL:https://ibts2.ibts.org
X-WR-CALDESC:Events for IBTS
BEGIN:VTIMEZONE
TZID:UTC
BEGIN:STANDARD
TZOFFSETFROM:+0000
TZOFFSETTO:+0000
TZNAME:UTC
DTSTART:20180101T000000
END:STANDARD
END:VTIMEZONE
BEGIN:VEVENT
DTSTART;VALUE=DATE:20180213
DTEND;VALUE=DATE:20180215
DTSTAMP:20260421T111125
CREATED:20180201T200228Z
LAST-MODIFIED:20180201T200228Z
UID:3160-1518480000-1518652799@ibts2.ibts.org
SUMMARY:NY Regional Home Performance Conference 2018
DESCRIPTION:IBTS will be attending this year’s NY Regional Home Performance Conference in Saratoga Springs. We look forward to seeing you there!
URL:https://ibts2.ibts.org/event/ny-regional-home-performance-conference-2018/
LOCATION:Saratoga Springs\, NY
END:VEVENT
END:VCALENDAR