BEGIN:VCALENDAR
VERSION:2.0
PRODID:-//IBTS - ECPv5.9.0//NONSGML v1.0//EN
CALSCALE:GREGORIAN
METHOD:PUBLISH
X-WR-CALNAME:IBTS
X-ORIGINAL-URL:https://ibts2.ibts.org
X-WR-CALDESC:Events for IBTS
BEGIN:VTIMEZONE
TZID:UTC
BEGIN:STANDARD
TZOFFSETFROM:+0000
TZOFFSETTO:+0000
TZNAME:UTC
DTSTART:20170101T000000
END:STANDARD
END:VTIMEZONE
BEGIN:VEVENT
DTSTART;VALUE=DATE:20170320
DTEND;VALUE=DATE:20170326
DTSTAMP:20260422T094753
CREATED:20170614T145106Z
LAST-MODIFIED:20170614T145106Z
UID:1075-1489968000-1490486399@ibts2.ibts.org
SUMMARY:National Emergency Management Association (NEMA) Mid-year Form
DESCRIPTION:
URL:https://ibts2.ibts.org/event/national-emergency-management-association-nema-mid-year-form/
LOCATION:Alexandria\, VA
END:VEVENT
END:VCALENDAR