BEGIN:VCALENDAR
VERSION:2.0
PRODID:-//IBTS - ECPv5.9.0//NONSGML v1.0//EN
CALSCALE:GREGORIAN
METHOD:PUBLISH
X-WR-CALNAME:IBTS
X-ORIGINAL-URL:https://ibts2.ibts.org
X-WR-CALDESC:Events for IBTS
BEGIN:VTIMEZONE
TZID:UTC
BEGIN:STANDARD
TZOFFSETFROM:+0000
TZOFFSETTO:+0000
TZNAME:UTC
DTSTART:20170101T000000
END:STANDARD
END:VTIMEZONE
BEGIN:VEVENT
DTSTART;VALUE=DATE:20170212
DTEND;VALUE=DATE:20170216
DTSTAMP:20260422T071513
CREATED:20170614T145729Z
LAST-MODIFIED:20170614T145729Z
UID:1093-1486857600-1487203199@ibts2.ibts.org
SUMMARY:National Conference of Regions (NARC)
DESCRIPTION:
URL:https://ibts2.ibts.org/event/national-conference-of-regions-narc/
LOCATION:Washington\, DC
END:VEVENT
END:VCALENDAR