BEGIN:VCALENDAR
VERSION:2.0
PRODID:-//IBTS - ECPv5.9.0//NONSGML v1.0//EN
CALSCALE:GREGORIAN
METHOD:PUBLISH
X-WR-CALNAME:IBTS
X-ORIGINAL-URL:https://ibts2.ibts.org
X-WR-CALDESC:Events for IBTS
BEGIN:VTIMEZONE
TZID:UTC
BEGIN:STANDARD
TZOFFSETFROM:+0000
TZOFFSETTO:+0000
TZNAME:UTC
DTSTART:20170101T000000
END:STANDARD
END:VTIMEZONE
BEGIN:VEVENT
DTSTART;VALUE=DATE:20170731
DTEND;VALUE=DATE:20170803
DTSTAMP:20260422T011842
CREATED:20170614T142859Z
LAST-MODIFIED:20180911T140812Z
UID:1016-1501459200-1501718399@ibts2.ibts.org
SUMMARY:National Association of State Fire Marshalls 2017
DESCRIPTION:
URL:https://ibts2.ibts.org/event/national-association-of-state-fire-marshalls-2017/
LOCATION:Charleston\, SC
END:VEVENT
END:VCALENDAR