BEGIN:VCALENDAR
VERSION:2.0
PRODID:-//IBTS - ECPv5.9.0//NONSGML v1.0//EN
CALSCALE:GREGORIAN
METHOD:PUBLISH
X-WR-CALNAME:IBTS
X-ORIGINAL-URL:https://ibts2.ibts.org
X-WR-CALDESC:Events for IBTS
BEGIN:VTIMEZONE
TZID:UTC
BEGIN:STANDARD
TZOFFSETFROM:+0000
TZOFFSETTO:+0000
TZNAME:UTC
DTSTART:20170101T000000
END:STANDARD
END:VTIMEZONE
BEGIN:VEVENT
DTSTART;VALUE=DATE:20170509
DTEND;VALUE=DATE:20170512
DTSTAMP:20260422T065940
CREATED:20170614T143827Z
LAST-MODIFIED:20170614T143827Z
UID:1035-1494288000-1494547199@ibts2.ibts.org
SUMMARY:National Adaptation Forum
DESCRIPTION:
URL:https://ibts2.ibts.org/event/national-adaptation-forum/
LOCATION:St. Paul\, MN
END:VEVENT
END:VCALENDAR