BEGIN:VCALENDAR
VERSION:2.0
PRODID:-//IBTS - ECPv5.9.0//NONSGML v1.0//EN
CALSCALE:GREGORIAN
METHOD:PUBLISH
X-WR-CALNAME:IBTS
X-ORIGINAL-URL:https://ibts2.ibts.org
X-WR-CALDESC:Events for IBTS
BEGIN:VTIMEZONE
TZID:UTC
BEGIN:STANDARD
TZOFFSETFROM:+0000
TZOFFSETTO:+0000
TZNAME:UTC
DTSTART:20170101T000000
END:STANDARD
END:VTIMEZONE
BEGIN:VEVENT
DTSTART;VALUE=DATE:20170206
DTEND;VALUE=DATE:20170208
DTSTAMP:20260422T025323
CREATED:20170614T145924Z
LAST-MODIFIED:20170614T145924Z
UID:1098-1486339200-1486511999@ibts2.ibts.org
SUMMARY:Louisiana Municipal Association Mid-Winter Conference
DESCRIPTION:
URL:https://ibts2.ibts.org/event/louisiana-municipal-association-mid-winter-conference/
LOCATION:Baton Rouge\, LA
END:VEVENT
END:VCALENDAR