BEGIN:VCALENDAR
VERSION:2.0
PRODID:-//IBTS - ECPv5.9.0//NONSGML v1.0//EN
CALSCALE:GREGORIAN
METHOD:PUBLISH
X-WR-CALNAME:IBTS
X-ORIGINAL-URL:https://ibts2.ibts.org
X-WR-CALDESC:Events for IBTS
BEGIN:VTIMEZONE
TZID:UTC
BEGIN:STANDARD
TZOFFSETFROM:+0000
TZOFFSETTO:+0000
TZNAME:UTC
DTSTART:20170101T000000
END:STANDARD
END:VTIMEZONE
BEGIN:VEVENT
DTSTART;VALUE=DATE:20170727
DTEND;VALUE=DATE:20170730
DTSTAMP:20260422T070220
CREATED:20170614T142744Z
LAST-MODIFIED:20180911T140932Z
UID:1013-1501113600-1501372799@ibts2.ibts.org
SUMMARY:Louisiana Municipal Association Annual Convention 2017
DESCRIPTION:
URL:https://ibts2.ibts.org/event/louisiana-municipal-association-annual-convention-2017/
LOCATION:Shreveport\, LA
END:VEVENT
END:VCALENDAR