BEGIN:VCALENDAR
VERSION:2.0
PRODID:-//IBTS - ECPv5.9.0//NONSGML v1.0//EN
CALSCALE:GREGORIAN
METHOD:PUBLISH
X-WR-CALNAME:IBTS
X-ORIGINAL-URL:https://ibts2.ibts.org
X-WR-CALDESC:Events for IBTS
BEGIN:VTIMEZONE
TZID:UTC
BEGIN:STANDARD
TZOFFSETFROM:+0000
TZOFFSETTO:+0000
TZNAME:UTC
DTSTART:20170101T000000
END:STANDARD
END:VTIMEZONE
BEGIN:VEVENT
DTSTART;VALUE=DATE:20170913
DTEND;VALUE=DATE:20170916
DTSTAMP:20260421T192802
CREATED:20170801T211954Z
LAST-MODIFIED:20181029T191916Z
UID:1946-1505260800-1505519999@ibts2.ibts.org
SUMMARY:League of California Cities 2017
DESCRIPTION:IBTS will be attending the League of California Cities 2017.
URL:https://ibts2.ibts.org/event/league-of-california-cities-2017/
LOCATION:Sacramento\, CA
END:VEVENT
END:VCALENDAR