BEGIN:VCALENDAR
VERSION:2.0
PRODID:-//IBTS - ECPv5.9.0//NONSGML v1.0//EN
CALSCALE:GREGORIAN
METHOD:PUBLISH
X-WR-CALNAME:IBTS
X-ORIGINAL-URL:https://ibts2.ibts.org
X-WR-CALDESC:Events for IBTS
BEGIN:VTIMEZONE
TZID:UTC
BEGIN:STANDARD
TZOFFSETFROM:+0000
TZOFFSETTO:+0000
TZNAME:UTC
DTSTART:20170101T000000
END:STANDARD
END:VTIMEZONE
BEGIN:VEVENT
DTSTART;VALUE=DATE:20170514
DTEND;VALUE=DATE:20170520
DTSTAMP:20260422T025059
CREATED:20170614T143501Z
LAST-MODIFIED:20170614T143501Z
UID:1027-1494720000-1495238399@ibts2.ibts.org
SUMMARY:Governor's Hurricane Conference (GHC)
DESCRIPTION:
URL:https://ibts2.ibts.org/event/governors-hurricane-conference-ghc/
LOCATION:West Palm Beach\, FL
END:VEVENT
END:VCALENDAR