BEGIN:VCALENDAR
VERSION:2.0
PRODID:-//IBTS - ECPv5.9.0//NONSGML v1.0//EN
CALSCALE:GREGORIAN
METHOD:PUBLISH
X-WR-CALNAME:IBTS
X-ORIGINAL-URL:https://ibts2.ibts.org
X-WR-CALDESC:Events for IBTS
BEGIN:VTIMEZONE
TZID:UTC
BEGIN:STANDARD
TZOFFSETFROM:+0000
TZOFFSETTO:+0000
TZNAME:UTC
DTSTART:20170101T000000
END:STANDARD
END:VTIMEZONE
BEGIN:VEVENT
DTSTART;VALUE=DATE:20170917
DTEND;VALUE=DATE:20170921
DTSTAMP:20260422T011558
CREATED:20170801T212443Z
LAST-MODIFIED:20180510T150809Z
UID:1954-1505606400-1505951999@ibts2.ibts.org
SUMMARY:COSCDA Annual Training Conference
DESCRIPTION:IBTS will be sponsoring and exhibiting at this year’s COSCDA Annual Training Conference. Come visit us at our vendor table!
URL:https://ibts2.ibts.org/event/coscda-annual-training-conference/
LOCATION:Denver\, CO
END:VEVENT
END:VCALENDAR