BEGIN:VCALENDAR
VERSION:2.0
PRODID:-//IBTS - ECPv5.9.0//NONSGML v1.0//EN
CALSCALE:GREGORIAN
METHOD:PUBLISH
X-WR-CALNAME:IBTS
X-ORIGINAL-URL:https://ibts2.ibts.org
X-WR-CALDESC:Events for IBTS
BEGIN:VTIMEZONE
TZID:UTC
BEGIN:STANDARD
TZOFFSETFROM:+0000
TZOFFSETTO:+0000
TZNAME:UTC
DTSTART:20180101T000000
END:STANDARD
END:VTIMEZONE
BEGIN:VEVENT
DTSTART;VALUE=DATE:20180312
DTEND;VALUE=DATE:20180314
DTSTAMP:20260421T094706
CREATED:20180201T201031Z
LAST-MODIFIED:20180510T150752Z
UID:3171-1520812800-1520985599@ibts2.ibts.org
SUMMARY:COSCDA 2018 Program Managers Training Conference
DESCRIPTION:IBTS will be attending the 2018 COSCDA Program Managers Training Conference in Washington\, D.C. We look forward to seeing you there!
URL:https://ibts2.ibts.org/event/coscda-2018-program-managers-training-conference/
LOCATION:Washington\, DC
END:VEVENT
END:VCALENDAR