BEGIN:VCALENDAR
VERSION:2.0
PRODID:-//IBTS - ECPv5.9.0//NONSGML v1.0//EN
CALSCALE:GREGORIAN
METHOD:PUBLISH
X-WR-CALNAME:IBTS
X-ORIGINAL-URL:https://ibts2.ibts.org
X-WR-CALDESC:Events for IBTS
BEGIN:VTIMEZONE
TZID:UTC
BEGIN:STANDARD
TZOFFSETFROM:+0000
TZOFFSETTO:+0000
TZNAME:UTC
DTSTART:20170101T000000
END:STANDARD
END:VTIMEZONE
BEGIN:VEVENT
DTSTART;VALUE=DATE:20170514
DTEND;VALUE=DATE:20170518
DTSTAMP:20260422T070445
CREATED:20170614T143609Z
LAST-MODIFIED:20180510T150620Z
UID:1029-1494720000-1495065599@ibts2.ibts.org
SUMMARY:Conference of Southern County Associations Annual Conference
DESCRIPTION:
URL:https://ibts2.ibts.org/event/conference-of-southern-county-associations-annual-conference/
LOCATION:Asheville\, NC
END:VEVENT
END:VCALENDAR