BEGIN:VCALENDAR
VERSION:2.0
PRODID:-//IBTS - ECPv5.9.0//NONSGML v1.0//EN
CALSCALE:GREGORIAN
METHOD:PUBLISH
X-WR-CALNAME:IBTS
X-ORIGINAL-URL:https://ibts2.ibts.org
X-WR-CALDESC:Events for IBTS
BEGIN:VTIMEZONE
TZID:UTC
BEGIN:STANDARD
TZOFFSETFROM:+0000
TZOFFSETTO:+0000
TZNAME:UTC
DTSTART:20170101T000000
END:STANDARD
END:VTIMEZONE
BEGIN:VEVENT
DTSTART;VALUE=DATE:20170611
DTEND;VALUE=DATE:20170614
DTSTAMP:20260422T070301
CREATED:20170614T141840Z
LAST-MODIFIED:20180510T144501Z
UID:989-1497139200-1497398399@ibts2.ibts.org
SUMMARY:Building Officials Association of Florida Conference 2017
DESCRIPTION:
URL:https://ibts2.ibts.org/event/building-officials-association-of-florida-conference-2017/
LOCATION:Daytona Beach\, FL
END:VEVENT
END:VCALENDAR