BEGIN:VCALENDAR
VERSION:2.0
PRODID:-//IBTS - ECPv5.9.0//NONSGML v1.0//EN
CALSCALE:GREGORIAN
METHOD:PUBLISH
X-WR-CALNAME:IBTS
X-ORIGINAL-URL:https://ibts2.ibts.org
X-WR-CALDESC:Events for IBTS
BEGIN:VTIMEZONE
TZID:UTC
BEGIN:STANDARD
TZOFFSETFROM:+0000
TZOFFSETTO:+0000
TZNAME:UTC
DTSTART:20180101T000000
END:STANDARD
END:VTIMEZONE
BEGIN:VEVENT
DTSTART;VALUE=DATE:20180219
DTEND;VALUE=DATE:20180223
DTSTAMP:20260421T094818
CREATED:20180201T200558Z
LAST-MODIFIED:20180510T033717Z
UID:3165-1518998400-1519343999@ibts2.ibts.org
SUMMARY:BPI Houston 2018
DESCRIPTION:IBTS will be exhibiting at this year’s BPI Houston 2018. We look forward to seeing you there!
URL:https://ibts2.ibts.org/event/bpi-houston-2018/
LOCATION:Houston\, TX
END:VEVENT
END:VCALENDAR