BEGIN:VCALENDAR
VERSION:2.0
PRODID:-//IBTS - ECPv5.9.0//NONSGML v1.0//EN
CALSCALE:GREGORIAN
METHOD:PUBLISH
X-WR-CALNAME:IBTS
X-ORIGINAL-URL:https://ibts2.ibts.org
X-WR-CALDESC:Events for IBTS
BEGIN:VTIMEZONE
TZID:UTC
BEGIN:STANDARD
TZOFFSETFROM:+0000
TZOFFSETTO:+0000
TZNAME:UTC
DTSTART:20180101T000000
END:STANDARD
END:VTIMEZONE
BEGIN:VEVENT
DTSTART;VALUE=DATE:20180421
DTEND;VALUE=DATE:20180425
DTSTAMP:20260421T094332
CREATED:20180201T201956Z
LAST-MODIFIED:20180510T025545Z
UID:3181-1524268800-1524614399@ibts2.ibts.org
SUMMARY:American Planning Association (APA) Conference 2018
DESCRIPTION:IBTS is sponsoring and exhibiting at the 2018 American Planning Association (APA) Conference in New Orleans. Come visit us in booth #220!
URL:https://ibts2.ibts.org/event/american-planning-association-apa-conference-2018/
LOCATION:New Orleans\, LA
END:VEVENT
END:VCALENDAR