BEGIN:VCALENDAR
VERSION:2.0
PRODID:-//IBTS - ECPv5.9.0//NONSGML v1.0//EN
CALSCALE:GREGORIAN
METHOD:PUBLISH
X-WR-CALNAME:IBTS
X-ORIGINAL-URL:https://ibts2.ibts.org
X-WR-CALDESC:Events for IBTS
BEGIN:VTIMEZONE
TZID:UTC
BEGIN:STANDARD
TZOFFSETFROM:+0000
TZOFFSETTO:+0000
TZNAME:UTC
DTSTART:20170101T000000
END:STANDARD
END:VTIMEZONE
BEGIN:VEVENT
DTSTART;VALUE=DATE:20171015
DTEND;VALUE=DATE:20171019
DTSTAMP:20260421T205025
CREATED:20170802T135833Z
LAST-MODIFIED:20180510T024955Z
UID:1971-1508025600-1508371199@ibts2.ibts.org
SUMMARY:ACEEE Behavior\, Energy\, and Climate Change Conference
DESCRIPTION:An IBTS team member will have a speaking role at this year’s ACEEE Behavior\, Energy\, and Climate Change Conference. Stay tuned for more details!
URL:https://ibts2.ibts.org/event/aceee-behavior-energy-and-climate-change-conference/
LOCATION:Sacramento\, CA
END:VEVENT
END:VCALENDAR