BEGIN:VCALENDAR
VERSION:2.0
PRODID:-//IBTS - ECPv5.9.0//NONSGML v1.0//EN
CALSCALE:GREGORIAN
METHOD:PUBLISH
X-WR-CALNAME:IBTS
X-ORIGINAL-URL:https://ibts2.ibts.org
X-WR-CALDESC:Events for IBTS
BEGIN:VTIMEZONE
TZID:UTC
BEGIN:STANDARD
TZOFFSETFROM:+0000
TZOFFSETTO:+0000
TZNAME:UTC
DTSTART:20170101T000000
END:STANDARD
END:VTIMEZONE
BEGIN:VEVENT
DTSTART;VALUE=DATE:20171015
DTEND;VALUE=DATE:20171018
DTSTAMP:20260421T161850
CREATED:20170905T170256Z
LAST-MODIFIED:20180510T023256Z
UID:2784-1508025600-1508284799@ibts2.ibts.org
SUMMARY:2017 VBCOA Annual School and Conference
DESCRIPTION:IBTS will be exhibiting at this year’s 2017 VBCOA Annual School and Conference. We look forward to seeing you there!
URL:https://ibts2.ibts.org/event/2017-vbcoa-annual-school-conference/
LOCATION:Virginia Beach\, VA
END:VEVENT
END:VCALENDAR