BEGIN:VCALENDAR
VERSION:2.0
PRODID:-//IBTS - ECPv5.9.0//NONSGML v1.0//EN
CALSCALE:GREGORIAN
METHOD:PUBLISH
X-WR-CALNAME:IBTS
X-ORIGINAL-URL:https://ibts2.ibts.org
X-WR-CALDESC:Events for IBTS
BEGIN:VTIMEZONE
TZID:UTC
BEGIN:STANDARD
TZOFFSETFROM:+0000
TZOFFSETTO:+0000
TZNAME:UTC
DTSTART:20170101T000000
END:STANDARD
END:VTIMEZONE
BEGIN:VEVENT
DTSTART;VALUE=DATE:20170202
DTEND;VALUE=DATE:20170203
DTSTAMP:20260422T053505
CREATED:20170614T150023Z
LAST-MODIFIED:20180510T023214Z
UID:1102-1485993600-1486079999@ibts2.ibts.org
SUMMARY:2017 VAPDC Winter Awards
DESCRIPTION:
URL:https://ibts2.ibts.org/event/2017-vapdc-winter-awards/
LOCATION:Richmond\, VA\, 403 N. Third St\, Richmond\, VA\, 23219\, United States
END:VEVENT
END:VCALENDAR