BEGIN:VCALENDAR
VERSION:2.0
PRODID:-//IBTS - ECPv5.9.0//NONSGML v1.0//EN
CALSCALE:GREGORIAN
METHOD:PUBLISH
X-WR-CALNAME:IBTS
X-ORIGINAL-URL:https://ibts2.ibts.org
X-WR-CALDESC:Events for IBTS
BEGIN:VTIMEZONE
TZID:UTC
BEGIN:STANDARD
TZOFFSETFROM:+0000
TZOFFSETTO:+0000
TZNAME:UTC
DTSTART:20170101T000000
END:STANDARD
END:VTIMEZONE
BEGIN:VEVENT
DTSTART;VALUE=DATE:20170829
DTEND;VALUE=DATE:20170901
DTSTAMP:20260421T192552
CREATED:20170801T205401Z
LAST-MODIFIED:20180510T023027Z
UID:1927-1503964800-1504223999@ibts2.ibts.org
SUMMARY:2017 Tri-Regional SAME Joint Engineer Training Symposium (JETS)
DESCRIPTION:IBTS will be attending this year’s 2017 Tri-Regional SAME Joint Engineer Training Symposium (JETS).
URL:https://ibts2.ibts.org/event/2017-tri-regional-same-joint-engineer-training-symposium-jets/
END:VEVENT
END:VCALENDAR