BEGIN:VCALENDAR
VERSION:2.0
PRODID:-//IBTS - ECPv5.9.0//NONSGML v1.0//EN
CALSCALE:GREGORIAN
METHOD:PUBLISH
X-WR-CALNAME:IBTS
X-ORIGINAL-URL:https://ibts2.ibts.org
X-WR-CALDESC:Events for IBTS
BEGIN:VTIMEZONE
TZID:UTC
BEGIN:STANDARD
TZOFFSETFROM:+0000
TZOFFSETTO:+0000
TZNAME:UTC
DTSTART:20170101T000000
END:STANDARD
END:VTIMEZONE
BEGIN:VEVENT
DTSTART;VALUE=DATE:20171201
DTEND;VALUE=DATE:20171202
DTSTAMP:20260421T152308
CREATED:20170905T171059Z
LAST-MODIFIED:20180510T022559Z
UID:2794-1512086400-1512172799@ibts2.ibts.org
SUMMARY:16th Annual Smart Growth Summit
DESCRIPTION:IBTS will be sponsoring and speaking at this year’s 16th Annual Smart Growth Summit. We will also have a display table set up with information on our services. We look forward to seeing you there!
URL:https://ibts2.ibts.org/event/16th-annual-smart-growth-summit/
LOCATION:Woodbury\, NY
END:VEVENT
END:VCALENDAR